BEGIN:VCALENDAR
VERSION:2.0
PRODID:icalendar-ruby
CALSCALE:GREGORIAN
METHOD:PUBLISH
BEGIN:VEVENT
DTSTAMP:20260421T202417Z
UID:7-1190469@newlife229.tithelysetup5.com
DTSTART:20260923T233000Z
DTEND:20260924T003500Z
CLASS:PUBLIC
CREATED:20260421T141921
DESCRIPTION:Ministry for your entire family including Adult Bible Study\, C
 atalyst Student Ministry\, Spark Kidz\, Sparklers and Little Sparklers.\nO
 ur Wednesday ministries are designed to help every member of your family t
 o grow in their faith.
LAST-MODIFIED:20260421T141921
LOCATION:Main Campus
SUMMARY:Family Night 
URL;VALUE=URI:https://www.athensnewlife.com/events/family-night/2026-09-23
END:VEVENT
END:VCALENDAR
