BEGIN:VCALENDAR
VERSION:2.0
PRODID:icalendar-ruby
CALSCALE:GREGORIAN
METHOD:PUBLISH
BEGIN:VEVENT
DTSTAMP:20260422T010719Z
UID:7-1191928@newlife229.tithelysetup5.com
DTSTART:20261014T233000Z
DTEND:20261015T003500Z
CLASS:PUBLIC
CREATED:20260421T193518
DESCRIPTION:Ministry for your entire family including Adult Bible Study\, C
 atalyst Student Ministry\, Spark Kidz\, Sparklers and Little Sparklers.\nO
 ur Wednesday ministries are designed to help every member of your family t
 o grow in their faith.
LAST-MODIFIED:20260421T193518
LOCATION:Main Campus
SUMMARY:Family Night 
URL;VALUE=URI:https://www.athensnewlife.com/events/family-night/2026-10-14
END:VEVENT
END:VCALENDAR
