BEGIN:VCALENDAR
VERSION:2.0
PRODID:icalendar-ruby
CALSCALE:GREGORIAN
METHOD:PUBLISH
BEGIN:VEVENT
DTSTAMP:20260420T133813Z
UID:20-1183998@newlife229.tithelysetup5.com
DTSTART:20261001T150000Z
DTEND:20261001T163000Z
CLASS:PUBLIC
CREATED:20260420T062611
DESCRIPTION:
LAST-MODIFIED:20260420T062611
LOCATION:16768 US - 72\, Athens\, AL 35611
SUMMARY:Ladies Bible Study
URL;VALUE=URI:https://www.athensnewlife.com/events/ladies-bible-study/2026-
 10-01
ATTACH;FILENAME=FklNh.jpg;FMTTYPE=image/jpeg:https://dq5pwpg1q8ru0.cloudfro
 nt.net/2026/02/24/19/22/41/6bf8fc66-9760-4ce5-89a2-62e651f243a9/FklNh.jpg
END:VEVENT
END:VCALENDAR
