BEGIN:VCALENDAR
VERSION:2.0
PRODID:icalendar-ruby
CALSCALE:GREGORIAN
METHOD:PUBLISH
BEGIN:VEVENT
DTSTAMP:20260420T133645Z
UID:19-1183962@newlife229.tithelysetup5.com
DTSTART:20260929T180000Z
DTEND:20260929T190000Z
CLASS:PUBLIC
CREATED:20260420T062611
DESCRIPTION:
LAST-MODIFIED:20260420T062611
LOCATION:16768 US - 72 Athens\, AL 35611
SUMMARY:Prayer & Fasting
URL;VALUE=URI:https://www.athensnewlife.com/events/prayer-fasting/2026-09-2
 9
ATTACH;FILENAME=FwH8S.jpg;FMTTYPE=image/jpeg:https://dq5pwpg1q8ru0.cloudfro
 nt.net/2026/02/24/19/19/58/b142086c-15c8-40ca-b989-612321ef8594/FwH8S.jpg
END:VEVENT
END:VCALENDAR
